BEGIN:VCALENDAR
VERSION:2.0
PRODID:-//Acorns International School - ECPv6.15.18//NONSGML v1.0//EN
CALSCALE:GREGORIAN
METHOD:PUBLISH
X-WR-CALNAME:Acorns International School
X-ORIGINAL-URL:https://acornsrwanda.ac.rw
X-WR-CALDESC:Events for Acorns International School
REFRESH-INTERVAL;VALUE=DURATION:PT1H
X-Robots-Tag:noindex
X-PUBLISHED-TTL:PT1H
BEGIN:VTIMEZONE
TZID:UTC
BEGIN:STANDARD
TZOFFSETFROM:+0000
TZOFFSETTO:+0000
TZNAME:UTC
DTSTART:20250101T000000
END:STANDARD
END:VTIMEZONE
BEGIN:VEVENT
DTSTART;TZID=UTC:20260312T090000
DTEND;TZID=UTC:20260312T140000
DTSTAMP:20260419T124300
CREATED:20260211T062130Z
LAST-MODIFIED:20260211T062130Z
UID:7868-1773306000-1773324000@acornsrwanda.ac.rw
SUMMARY:International Francophonie Day(EY&Primary)
DESCRIPTION:
URL:https://acornsrwanda.ac.rw/event/international-francophonie-dayeyprimary/
END:VEVENT
END:VCALENDAR